BEGIN:VCALENDAR
VERSION:2.0
PRODID:-//Welcome Center - ECPv6.15.20//NONSGML v1.0//EN
CALSCALE:GREGORIAN
METHOD:PUBLISH
X-WR-CALNAME:Welcome Center
X-ORIGINAL-URL:https://welcomecenter-rn.de
X-WR-CALDESC:Veranstaltungen für Welcome Center
REFRESH-INTERVAL;VALUE=DURATION:PT1H
X-Robots-Tag:noindex
X-PUBLISHED-TTL:PT1H
BEGIN:VTIMEZONE
TZID:Europe/Berlin
BEGIN:DAYLIGHT
TZOFFSETFROM:+0100
TZOFFSETTO:+0200
TZNAME:CEST
DTSTART:20250330T010000
END:DAYLIGHT
BEGIN:STANDARD
TZOFFSETFROM:+0200
TZOFFSETTO:+0100
TZNAME:CET
DTSTART:20251026T010000
END:STANDARD
BEGIN:DAYLIGHT
TZOFFSETFROM:+0100
TZOFFSETTO:+0200
TZNAME:CEST
DTSTART:20260329T010000
END:DAYLIGHT
BEGIN:STANDARD
TZOFFSETFROM:+0200
TZOFFSETTO:+0100
TZNAME:CET
DTSTART:20261025T010000
END:STANDARD
BEGIN:DAYLIGHT
TZOFFSETFROM:+0100
TZOFFSETTO:+0200
TZNAME:CEST
DTSTART:20270328T010000
END:DAYLIGHT
BEGIN:STANDARD
TZOFFSETFROM:+0200
TZOFFSETTO:+0100
TZNAME:CET
DTSTART:20271031T010000
END:STANDARD
END:VTIMEZONE
BEGIN:VEVENT
DTSTART;TZID=Europe/Berlin:20260422T160000
DTEND;TZID=Europe/Berlin:20260422T173000
DTSTAMP:20260422T121710
CREATED:20260313T095059Z
LAST-MODIFIED:20260313T095059Z
UID:249759-1776873600-1776879000@welcomecenter-rn.de
SUMMARY:Prepara tu camino hacia Baden Wuerttemberg
DESCRIPTION:¿Estás pensando en emigrar a Baden-Württemberg? \nLos Welcome Center te orientan en español y sin costo sobre los distintos tipos de visa y sobre la mejor manera de prepararte para que tu llegada sea más sencilla. Además\, compartiremos recursos útiles para aprender alemán durante el proceso. \nFecha: 22.04.2026\nHorario: 16:00 – 17:30 Europa/ Berlín\nLugar: Online\, con registro en el link adjunto \nUna gran oportunidad para quienes estén pensando en trabajar y vivir en Alemania \nAtención: para participar del evento es necesario registrarse con antelación en el Link: https://us06web.zoom.us/webinar/register/WN_7lFsoT_KSJ6bJCN296nq8w
URL:https://welcomecenter-rn.de/event/prepara-tu-camino-hacia-baden-wuerttemberg/
CATEGORIES:digital
END:VEVENT
END:VCALENDAR