BEGIN:VCALENDAR
VERSION:2.0
PRODID:-//Welcome Center - ECPv6.15.20//NONSGML v1.0//EN
CALSCALE:GREGORIAN
METHOD:PUBLISH
X-WR-CALNAME:Welcome Center
X-ORIGINAL-URL:https://welcomecenter-rn.de
X-WR-CALDESC:Veranstaltungen für Welcome Center
REFRESH-INTERVAL;VALUE=DURATION:PT1H
X-Robots-Tag:noindex
X-PUBLISHED-TTL:PT1H
BEGIN:VTIMEZONE
TZID:Europe/Berlin
BEGIN:DAYLIGHT
TZOFFSETFROM:+0100
TZOFFSETTO:+0200
TZNAME:CEST
DTSTART:20250330T010000
END:DAYLIGHT
BEGIN:STANDARD
TZOFFSETFROM:+0200
TZOFFSETTO:+0100
TZNAME:CET
DTSTART:20251026T010000
END:STANDARD
BEGIN:DAYLIGHT
TZOFFSETFROM:+0100
TZOFFSETTO:+0200
TZNAME:CEST
DTSTART:20260329T010000
END:DAYLIGHT
BEGIN:STANDARD
TZOFFSETFROM:+0200
TZOFFSETTO:+0100
TZNAME:CET
DTSTART:20261025T010000
END:STANDARD
BEGIN:DAYLIGHT
TZOFFSETFROM:+0100
TZOFFSETTO:+0200
TZNAME:CEST
DTSTART:20270328T010000
END:DAYLIGHT
BEGIN:STANDARD
TZOFFSETFROM:+0200
TZOFFSETTO:+0100
TZNAME:CET
DTSTART:20271031T010000
END:STANDARD
END:VTIMEZONE
BEGIN:VEVENT
DTSTART;TZID=Europe/Berlin:20260423T090000
DTEND;TZID=Europe/Berlin:20260423T120000
DTSTAMP:20260421T131442
CREATED:20260323T135941Z
LAST-MODIFIED:20260324T124637Z
UID:249781-1776934800-1776945600@welcomecenter-rn.de
SUMMARY:Barcamp – Fachkräftesicherung mit internationalen Fachkräften aus dem In- und Ausland
DESCRIPTION:Bildquelle: Prostock-studio – stock.adobe.com\n\nEin Baustein beim Thema Fachkräftesicherung sind internationale Fachkräfte. Sie bieten Top-Qualifizierungen und Fertigkeiten\, vielfältige Sprachkenntnisse sowie kulturelle Vielfalt. Doch wie können Sie internationales top qualifiziertes Personal finden und binden?\n\n\nUm Ihnen aufzuzeigen\, welche Möglichkeiten es gibt\, welche Schritte es mit sich bringt und was es zu beachten gilt\, wollen die Welcome Center Nordschwarzwald\, Schwarzwald-Baar-Heuberg/Hochrhein-Bodensee\, Südlicher Oberrhein und Ulm/Oberschwaben mit Unternehmern\, Personalverantwortlichen\, internationalen Fachkräften und vielen regionalen Institutionen\, die mit dem Thema Fachkräftesicherung betraut sind\, ein digitales Barcamp zum Austausch gestalten.\n\n\nDiese Veranstaltungsform bietet Ihnen die Möglichkeit\, sich in einem vorgegebenen Rahmen zu Themen \,hinzuzuschalten‘\, Ihre Fragen zu stellen\, Erfahrungen und Tipps auszutauschen und dadurch gemeinsam mehr zu erreichen.\n\nAnmeldung zu Veranstaltungen für Unternehmen und Institutionen – Industrie- und Handelskammer Nordschwarzwald
URL:https://welcomecenter-rn.de/event/barcamp-fachkraeftesicherung-mit-internationalen-fachkraeften-aus-dem-in-und-ausland-2/
CATEGORIES:digital
ATTACH;FMTTYPE=image/webp:https://welcomecenter-rn.de/wp-content/uploads/2025/10/adobestock_317312852-prostock-studio_fotonachweis-prostock-studio-–-stock.adobe_.com_-scaled.webp
END:VEVENT
END:VCALENDAR